BEGIN:VCALENDAR
VERSION:2.0
PRODID:-//KV Toleranz & Inklusion gGmbH - ECPv6.15.20//NONSGML v1.0//EN
CALSCALE:GREGORIAN
METHOD:PUBLISH
X-WR-CALNAME:KV Toleranz & Inklusion gGmbH
X-ORIGINAL-URL:https://kv-toleranz.org
X-WR-CALDESC:Veranstaltungen für KV Toleranz & Inklusion gGmbH
REFRESH-INTERVAL;VALUE=DURATION:PT1H
X-Robots-Tag:noindex
X-PUBLISHED-TTL:PT1H
BEGIN:VTIMEZONE
TZID:Europe/Berlin
BEGIN:DAYLIGHT
TZOFFSETFROM:+0100
TZOFFSETTO:+0200
TZNAME:CEST
DTSTART:20250330T010000
END:DAYLIGHT
BEGIN:STANDARD
TZOFFSETFROM:+0200
TZOFFSETTO:+0100
TZNAME:CET
DTSTART:20251026T010000
END:STANDARD
BEGIN:DAYLIGHT
TZOFFSETFROM:+0100
TZOFFSETTO:+0200
TZNAME:CEST
DTSTART:20260329T010000
END:DAYLIGHT
BEGIN:STANDARD
TZOFFSETFROM:+0200
TZOFFSETTO:+0100
TZNAME:CET
DTSTART:20261025T010000
END:STANDARD
BEGIN:DAYLIGHT
TZOFFSETFROM:+0100
TZOFFSETTO:+0200
TZNAME:CEST
DTSTART:20270328T010000
END:DAYLIGHT
BEGIN:STANDARD
TZOFFSETFROM:+0200
TZOFFSETTO:+0100
TZNAME:CET
DTSTART:20271031T010000
END:STANDARD
END:VTIMEZONE
BEGIN:VEVENT
DTSTART;TZID=Europe/Berlin:20260304T163000
DTEND;TZID=Europe/Berlin:20260304T180000
DTSTAMP:20260422T065057
CREATED:20260302T104106Z
LAST-MODIFIED:20260302T104106Z
UID:987522681-1772641800-1772647200@kv-toleranz.org
SUMMARY:Nähstübchen I jeden 1. Mittwoch im Monat
DESCRIPTION:In unserem Nähstübchen reparieren geschickte Hände liebevoll kaputte Kleidung. Hier findet jedes Stück eine zweite Chance. Bezahlung auf Spendenbasis
URL:https://kv-toleranz.org/veranstaltung/naehstuebchen-i-jeden-1-mittwoch-im-monat-15/
LOCATION:Mehrgenerationenhaus\, Tschaikowskistr. 57a\, Freiberg\, Sachsen\, 09599\, Germany
CATEGORIES:Mehrgenerationenhaus
ATTACH;FMTTYPE=image/jpeg:https://kv-toleranz.org/wp-content/uploads/2025/11/Aushang_Naehstuebchen.jpg
END:VEVENT
BEGIN:VEVENT
DTSTART;TZID=Europe/Berlin:20260304T173000
DTEND;TZID=Europe/Berlin:20260304T190000
DTSTAMP:20260422T065057
CREATED:20260302T112514Z
LAST-MODIFIED:20260302T112514Z
UID:987522740-1772645400-1772650800@kv-toleranz.org
SUMMARY:Sprachcafé - jeden Mittwoch
DESCRIPTION:Gesprächsrunde „Dialog in Deutsch“ \nAustausch über Freiberg\, Kultur und Alltägliches.
URL:https://kv-toleranz.org/veranstaltung/sprachcafe-jeden-mittwoch-41/
LOCATION:Mehrgenerationenhaus\, Tschaikowskistr. 57a\, Freiberg\, Sachsen\, 09599\, Germany
CATEGORIES:Mehrgenerationenhaus
ATTACH;FMTTYPE=image/jpeg:https://kv-toleranz.org/wp-content/uploads/2025/10/Sprachcafe-Flyer1.jpg
END:VEVENT
BEGIN:VEVENT
DTSTART;TZID=Europe/Berlin:20260305T150000
DTEND;TZID=Europe/Berlin:20260305T170000
DTSTAMP:20260422T065057
CREATED:20260226T084626Z
LAST-MODIFIED:20260226T084626Z
UID:987522342-1772722800-1772730000@kv-toleranz.org
SUMMARY:BegegnungsRaum I immer donnerstags
DESCRIPTION:Willkommen im BegegnungsRaum!\nJeden Donnerstag von 15 bis 17 Uhr öffnet unser BegegnungsRaum im Mehrgenerationenhaus „Buntes Haus“ seine Türen für alle\, die Lust auf eine entspannte Auszeit haben. Bei einer Tasse Kaffee oder Tee können wir gemeinsam Karten spielen\, plaudern und einfach eine schöne Zeit verbringen. \nHier ist jede*r herzlich willkommen – egal ob jung oder alt\, allein oder in Begleitung. Komm vorbei\, knüpfe neue Kontakte und genieße die freundliche Atmosphäre. Wir freuen uns auf dich! 😊
URL:https://kv-toleranz.org/veranstaltung/begegnungsraum-i-immer-donnerstags-65/
LOCATION:Mehrgenerationenhaus\, Tschaikowskistr. 57a\, Freiberg\, Sachsen\, 09599\, Germany
CATEGORIES:Mehrgenerationenhaus
ATTACH;FMTTYPE=image/png:https://kv-toleranz.org/wp-content/uploads/2025/12/BegegnungsRaum_StaeM.png
END:VEVENT
BEGIN:VEVENT
DTSTART;TZID=Europe/Berlin:20260305T170000
DTEND;TZID=Europe/Berlin:20260305T190000
DTSTAMP:20260422T065057
CREATED:20260302T112916Z
LAST-MODIFIED:20260302T112916Z
UID:987522762-1772730000-1772737200@kv-toleranz.org
SUMMARY:WOLLVERLIEBT
DESCRIPTION:Du willst nicht nur alleine auf der Couch deinem Hobby nachgehen? Dann komm zu uns und tausche dich mit Gleichgesinnten aus. \nWir trefen uns jeden ersten und dritten Donnerstag im Monat von 17:00 -19:00 Uhr im MGH „Buntes Haus“ in Freiberg.
URL:https://kv-toleranz.org/veranstaltung/wollverliebt-23/
LOCATION:Mehrgenerationenhaus\, Tschaikowskistr. 57a\, Freiberg\, Sachsen\, 09599\, Germany
CATEGORIES:Mehrgenerationenhaus
ATTACH;FMTTYPE=image/jpeg:https://kv-toleranz.org/wp-content/uploads/2025/04/Wollverliebt.jpg
END:VEVENT
BEGIN:VEVENT
DTSTART;TZID=Europe/Berlin:20260311T173000
DTEND;TZID=Europe/Berlin:20260311T190000
DTSTAMP:20260422T065057
CREATED:20260302T112609Z
LAST-MODIFIED:20260302T112609Z
UID:987522751-1773250200-1773255600@kv-toleranz.org
SUMMARY:Sprachcafé - jeden Mittwoch
DESCRIPTION:Gesprächsrunde „Dialog in Deutsch“ \nAustausch über Freiberg\, Kultur und Alltägliches.
URL:https://kv-toleranz.org/veranstaltung/sprachcafe-jeden-mittwoch-42/
LOCATION:Mehrgenerationenhaus\, Tschaikowskistr. 57a\, Freiberg\, Sachsen\, 09599\, Germany
CATEGORIES:Mehrgenerationenhaus
ATTACH;FMTTYPE=image/jpeg:https://kv-toleranz.org/wp-content/uploads/2025/10/Sprachcafe-Flyer1.jpg
END:VEVENT
BEGIN:VEVENT
DTSTART;TZID=Europe/Berlin:20260312T150000
DTEND;TZID=Europe/Berlin:20260312T170000
DTSTAMP:20260422T065057
CREATED:20260226T084726Z
LAST-MODIFIED:20260226T084726Z
UID:987522347-1773327600-1773334800@kv-toleranz.org
SUMMARY:BegegnungsRaum I immer donnerstags
DESCRIPTION:Willkommen im BegegnungsRaum!\nJeden Donnerstag von 15 bis 17 Uhr öffnet unser BegegnungsRaum im Mehrgenerationenhaus „Buntes Haus“ seine Türen für alle\, die Lust auf eine entspannte Auszeit haben. Bei einer Tasse Kaffee oder Tee können wir gemeinsam Karten spielen\, plaudern und einfach eine schöne Zeit verbringen. \nHier ist jede*r herzlich willkommen – egal ob jung oder alt\, allein oder in Begleitung. Komm vorbei\, knüpfe neue Kontakte und genieße die freundliche Atmosphäre. Wir freuen uns auf dich! 😊
URL:https://kv-toleranz.org/veranstaltung/begegnungsraum-i-immer-donnerstags-66/
LOCATION:Mehrgenerationenhaus\, Tschaikowskistr. 57a\, Freiberg\, Sachsen\, 09599\, Germany
CATEGORIES:Mehrgenerationenhaus
ATTACH;FMTTYPE=image/png:https://kv-toleranz.org/wp-content/uploads/2025/12/BegegnungsRaum_StaeM.png
END:VEVENT
BEGIN:VEVENT
DTSTART;TZID=Europe/Berlin:20260318T173000
DTEND;TZID=Europe/Berlin:20260318T190000
DTSTAMP:20260422T065057
CREATED:20260302T112700Z
LAST-MODIFIED:20260302T112700Z
UID:987522755-1773855000-1773860400@kv-toleranz.org
SUMMARY:Sprachcafé - jeden Mittwoch
DESCRIPTION:Gesprächsrunde „Dialog in Deutsch“ \nAustausch über Freiberg\, Kultur und Alltägliches.
URL:https://kv-toleranz.org/veranstaltung/sprachcafe-jeden-mittwoch-43/
LOCATION:Mehrgenerationenhaus\, Tschaikowskistr. 57a\, Freiberg\, Sachsen\, 09599\, Germany
CATEGORIES:Mehrgenerationenhaus
ATTACH;FMTTYPE=image/jpeg:https://kv-toleranz.org/wp-content/uploads/2025/10/Sprachcafe-Flyer1.jpg
END:VEVENT
BEGIN:VEVENT
DTSTART;TZID=Europe/Berlin:20260319T150000
DTEND;TZID=Europe/Berlin:20260319T170000
DTSTAMP:20260422T065057
CREATED:20260226T084815Z
LAST-MODIFIED:20260226T084815Z
UID:987522350-1773932400-1773939600@kv-toleranz.org
SUMMARY:BegegnungsRaum I immer donnerstags
DESCRIPTION:Willkommen im BegegnungsRaum!\nJeden Donnerstag von 15 bis 17 Uhr öffnet unser BegegnungsRaum im Mehrgenerationenhaus „Buntes Haus“ seine Türen für alle\, die Lust auf eine entspannte Auszeit haben. Bei einer Tasse Kaffee oder Tee können wir gemeinsam Karten spielen\, plaudern und einfach eine schöne Zeit verbringen. \nHier ist jede*r herzlich willkommen – egal ob jung oder alt\, allein oder in Begleitung. Komm vorbei\, knüpfe neue Kontakte und genieße die freundliche Atmosphäre. Wir freuen uns auf dich! 😊
URL:https://kv-toleranz.org/veranstaltung/begegnungsraum-i-immer-donnerstags-67/
LOCATION:Mehrgenerationenhaus\, Tschaikowskistr. 57a\, Freiberg\, Sachsen\, 09599\, Germany
CATEGORIES:Mehrgenerationenhaus
ATTACH;FMTTYPE=image/png:https://kv-toleranz.org/wp-content/uploads/2025/12/BegegnungsRaum_StaeM.png
END:VEVENT
BEGIN:VEVENT
DTSTART;TZID=Europe/Berlin:20260319T170000
DTEND;TZID=Europe/Berlin:20260319T190000
DTSTAMP:20260422T065057
CREATED:20260302T113002Z
LAST-MODIFIED:20260302T113002Z
UID:987522764-1773939600-1773946800@kv-toleranz.org
SUMMARY:WOLLVERLIEBT
DESCRIPTION:Du willst nicht nur alleine auf der Couch deinem Hobby nachgehen? Dann komm zu uns und tausche dich mit Gleichgesinnten aus. \nWir trefen uns jeden ersten und dritten Donnerstag im Monat von 17:00 -19:00 Uhr im MGH „Buntes Haus“ in Freiberg.
URL:https://kv-toleranz.org/veranstaltung/wollverliebt-24/
LOCATION:Mehrgenerationenhaus\, Tschaikowskistr. 57a\, Freiberg\, Sachsen\, 09599\, Germany
CATEGORIES:Mehrgenerationenhaus
ATTACH;FMTTYPE=image/jpeg:https://kv-toleranz.org/wp-content/uploads/2025/04/Wollverliebt.jpg
END:VEVENT
BEGIN:VEVENT
DTSTART;TZID=Europe/Berlin:20260319T170000
DTEND;TZID=Europe/Berlin:20260319T190000
DTSTAMP:20260422T065057
CREATED:20260302T113303Z
LAST-MODIFIED:20260302T113303Z
UID:987522768-1773939600-1773946800@kv-toleranz.org
SUMMARY:Flickcafé - Reparieren statt wegwerfen
DESCRIPTION:Du möchtest gern deine Kleidung selbst reparieren? Im Alltag kommst du nicht dazu oder brauchst Hilfe bei der Ausführung? \nDann komm zu uns und tausche dich mit Gleichgesinnten aus! Jeden 3. Donnerstag im Monat.
URL:https://kv-toleranz.org/veranstaltung/flickcafe-reparieren-statt-wegwerfen-4/
LOCATION:Mehrgenerationenhaus\, Tschaikowskistr. 57a\, Freiberg\, Sachsen\, 09599\, Germany
CATEGORIES:Mehrgenerationenhaus
ATTACH;FMTTYPE=image/png:https://kv-toleranz.org/wp-content/uploads/2025/11/Flickcafe_allgemein_Flyer.png
END:VEVENT
BEGIN:VEVENT
DTSTART;TZID=Europe/Berlin:20260325T163000
DTEND;TZID=Europe/Berlin:20260325T180000
DTSTAMP:20260422T065057
CREATED:20260302T113146Z
LAST-MODIFIED:20260302T113146Z
UID:987522766-1774456200-1774461600@kv-toleranz.org
SUMMARY:Smartcafé
DESCRIPTION:Wir erklären oder helfen Ihnen mit ihrem Smartphone\, Tablet oder Laptop. \nEs ist keine Anmeldung nötig und ist kostenfrei. \nJeden 4. Mittwoch im Monat\, immer von 16:30 – 18 Uhr können Sie gerne mit Ihren Fragen und Problemen zu uns ins Mehrgenerationenhaus „Buntes Haus“ in Freiberg kommen.
URL:https://kv-toleranz.org/veranstaltung/smartcafe-5/
LOCATION:Mehrgenerationenhaus\, Tschaikowskistr. 57a\, Freiberg\, Sachsen\, 09599\, Germany
CATEGORIES:Mehrgenerationenhaus
ATTACH;FMTTYPE=image/png:https://kv-toleranz.org/wp-content/uploads/2025/12/Smartcafe_Aushang_Allgemein.png
END:VEVENT
BEGIN:VEVENT
DTSTART;TZID=Europe/Berlin:20260325T173000
DTEND;TZID=Europe/Berlin:20260325T190000
DTSTAMP:20260422T065057
CREATED:20260302T112744Z
LAST-MODIFIED:20260302T112744Z
UID:987522760-1774459800-1774465200@kv-toleranz.org
SUMMARY:Sprachcafé - jeden Mittwoch
DESCRIPTION:Gesprächsrunde „Dialog in Deutsch“ \nAustausch über Freiberg\, Kultur und Alltägliches.
URL:https://kv-toleranz.org/veranstaltung/sprachcafe-jeden-mittwoch-44/
LOCATION:Mehrgenerationenhaus\, Tschaikowskistr. 57a\, Freiberg\, Sachsen\, 09599\, Germany
CATEGORIES:Mehrgenerationenhaus
ATTACH;FMTTYPE=image/jpeg:https://kv-toleranz.org/wp-content/uploads/2025/10/Sprachcafe-Flyer1.jpg
END:VEVENT
BEGIN:VEVENT
DTSTART;TZID=Europe/Berlin:20260326T150000
DTEND;TZID=Europe/Berlin:20260326T170000
DTSTAMP:20260422T065057
CREATED:20260302T103935Z
LAST-MODIFIED:20260302T103935Z
UID:987522667-1774537200-1774544400@kv-toleranz.org
SUMMARY:BegegnungsRaum I immer donnerstags
DESCRIPTION:Willkommen im BegegnungsRaum!\nJeden Donnerstag von 15 bis 17 Uhr öffnet unser BegegnungsRaum im Mehrgenerationenhaus „Buntes Haus“ seine Türen für alle\, die Lust auf eine entspannte Auszeit haben. Bei einer Tasse Kaffee oder Tee können wir gemeinsam Karten spielen\, plaudern und einfach eine schöne Zeit verbringen. \nHier ist jede*r herzlich willkommen – egal ob jung oder alt\, allein oder in Begleitung. Komm vorbei\, knüpfe neue Kontakte und genieße die freundliche Atmosphäre. Wir freuen uns auf dich! 😊
URL:https://kv-toleranz.org/veranstaltung/begegnungsraum-i-immer-donnerstags-68/
LOCATION:Mehrgenerationenhaus\, Tschaikowskistr. 57a\, Freiberg\, Sachsen\, 09599\, Germany
CATEGORIES:Mehrgenerationenhaus
ATTACH;FMTTYPE=image/png:https://kv-toleranz.org/wp-content/uploads/2025/12/BegegnungsRaum_StaeM.png
END:VEVENT
BEGIN:VEVENT
DTSTART;TZID=Europe/Berlin:20260327T100000
DTEND;TZID=Europe/Berlin:20260327T120000
DTSTAMP:20260422T065057
CREATED:20260121T081227Z
LAST-MODIFIED:20260121T081227Z
UID:987521262-1774605600-1774612800@kv-toleranz.org
SUMMARY:geHmeinsam
DESCRIPTION:Sie möchten gerne in Gesellschaft spazieren gehen?
URL:https://kv-toleranz.org/veranstaltung/gehmeinsam-9/
LOCATION:Karl Kegel Straße 71\, Karl Kegel Straße 71\, Freiberg\, Sachsen\, 09599\, Germany
CATEGORIES:Mehrgenerationenhaus
ATTACH;FMTTYPE=image/jpeg:https://kv-toleranz.org/wp-content/uploads/2026/01/GeHmeinsam_Fruehjahr-2026-scaled.jpg
END:VEVENT
END:VCALENDAR