BEGIN:VCALENDAR
VERSION:2.0
PRODID:-//KV Toleranz & Inklusion gGmbH - ECPv6.15.20//NONSGML v1.0//EN
CALSCALE:GREGORIAN
METHOD:PUBLISH
X-ORIGINAL-URL:https://kv-toleranz.org
X-WR-CALDESC:Veranstaltungen für KV Toleranz & Inklusion gGmbH
REFRESH-INTERVAL;VALUE=DURATION:PT1H
X-Robots-Tag:noindex
X-PUBLISHED-TTL:PT1H
BEGIN:VTIMEZONE
TZID:Europe/Berlin
BEGIN:DAYLIGHT
TZOFFSETFROM:+0100
TZOFFSETTO:+0200
TZNAME:CEST
DTSTART:20250330T010000
END:DAYLIGHT
BEGIN:STANDARD
TZOFFSETFROM:+0200
TZOFFSETTO:+0100
TZNAME:CET
DTSTART:20251026T010000
END:STANDARD
BEGIN:DAYLIGHT
TZOFFSETFROM:+0100
TZOFFSETTO:+0200
TZNAME:CEST
DTSTART:20260329T010000
END:DAYLIGHT
BEGIN:STANDARD
TZOFFSETFROM:+0200
TZOFFSETTO:+0100
TZNAME:CET
DTSTART:20261025T010000
END:STANDARD
BEGIN:DAYLIGHT
TZOFFSETFROM:+0100
TZOFFSETTO:+0200
TZNAME:CEST
DTSTART:20270328T010000
END:DAYLIGHT
BEGIN:STANDARD
TZOFFSETFROM:+0200
TZOFFSETTO:+0100
TZNAME:CET
DTSTART:20271031T010000
END:STANDARD
END:VTIMEZONE
BEGIN:VEVENT
DTSTART;TZID=Europe/Berlin:20260204T163000
DTEND;TZID=Europe/Berlin:20260204T180000
DTSTAMP:20260422T084951
CREATED:20260121T073404Z
LAST-MODIFIED:20260121T073404Z
UID:987521226-1770222600-1770228000@kv-toleranz.org
SUMMARY:Nähstübchen I jeden 1. Mittwoch im Monat
DESCRIPTION:In unserem Nähstübchen reparieren geschickte Hände liebevoll kaputte Kleidung. Hier findet jedes Stück eine zweite Chance. Bezahlung auf Spendenbasis
URL:https://kv-toleranz.org/veranstaltung/naehstuebchen-i-jeden-1-mittwoch-im-monat-14/
LOCATION:Mehrgenerationenhaus\, Tschaikowskistr. 57a\, Freiberg\, Sachsen\, 09599\, Germany
CATEGORIES:Mehrgenerationenhaus
ATTACH;FMTTYPE=image/jpeg:https://kv-toleranz.org/wp-content/uploads/2025/11/Aushang_Naehstuebchen.jpg
END:VEVENT
BEGIN:VEVENT
DTSTART;TZID=Europe/Berlin:20260204T173000
DTEND;TZID=Europe/Berlin:20260204T190000
DTSTAMP:20260422T084951
CREATED:20260121T073533Z
LAST-MODIFIED:20260121T073533Z
UID:987521228-1770226200-1770231600@kv-toleranz.org
SUMMARY:Sprachcafé - jeden Mittwoch
DESCRIPTION:Gesprächsrunde „Dialog in Deutsch“ \nAustausch über Freiberg\, Kultur und Alltägliches.
URL:https://kv-toleranz.org/veranstaltung/sprachcafe-jeden-mittwoch-37/
LOCATION:Mehrgenerationenhaus\, Tschaikowskistr. 57a\, Freiberg\, Sachsen\, 09599\, Germany
CATEGORIES:Mehrgenerationenhaus
ATTACH;FMTTYPE=image/jpeg:https://kv-toleranz.org/wp-content/uploads/2025/10/Sprachcafe-Flyer1.jpg
END:VEVENT
BEGIN:VEVENT
DTSTART;TZID=Europe/Berlin:20260205T150000
DTEND;TZID=Europe/Berlin:20260205T170000
DTSTAMP:20260422T084951
CREATED:20260121T072944Z
LAST-MODIFIED:20260121T072944Z
UID:987521203-1770303600-1770310800@kv-toleranz.org
SUMMARY:BegegnungsRaum I immer donnerstags
DESCRIPTION:Willkommen im BegegnungsRaum!\nJeden Donnerstag von 15 bis 17 Uhr öffnet unser BegegnungsRaum im Mehrgenerationenhaus „Buntes Haus“ seine Türen für alle\, die Lust auf eine entspannte Auszeit haben. Bei einer Tasse Kaffee oder Tee können wir gemeinsam Karten spielen\, plaudern und einfach eine schöne Zeit verbringen. \nHier ist jede*r herzlich willkommen – egal ob jung oder alt\, allein oder in Begleitung. Komm vorbei\, knüpfe neue Kontakte und genieße die freundliche Atmosphäre. Wir freuen uns auf dich! 😊
URL:https://kv-toleranz.org/veranstaltung/begegnungsraum-i-immer-donnerstags-61/
LOCATION:Mehrgenerationenhaus\, Tschaikowskistr. 57a\, Freiberg\, Sachsen\, 09599\, Germany
ATTACH;FMTTYPE=image/png:https://kv-toleranz.org/wp-content/uploads/2025/12/BegegnungsRaum_StaeM.png
END:VEVENT
BEGIN:VEVENT
DTSTART;TZID=Europe/Berlin:20260205T170000
DTEND;TZID=Europe/Berlin:20260205T190000
DTSTAMP:20260422T084951
CREATED:20260121T074155Z
LAST-MODIFIED:20260121T074155Z
UID:987521238-1770310800-1770318000@kv-toleranz.org
SUMMARY:WOLLVERLIEBT
DESCRIPTION:Du willst nicht nur alleine auf der Couch deinem Hobby nachgehen? Dann komm zu uns und tausche dich mit Gleichgesinnten aus. \nWir trefen uns jeden ersten und dritten Donnerstag im Monat von 17:00 -19:00 Uhr im MGH „Buntes Haus“ in Freiberg.
URL:https://kv-toleranz.org/veranstaltung/wollverliebt-21/
LOCATION:Mehrgenerationenhaus\, Tschaikowskistr. 57a\, Freiberg\, Sachsen\, 09599\, Germany
CATEGORIES:Mehrgenerationenhaus
ATTACH;FMTTYPE=image/jpeg:https://kv-toleranz.org/wp-content/uploads/2025/04/Wollverliebt.jpg
END:VEVENT
BEGIN:VEVENT
DTSTART;TZID=Europe/Berlin:20260209T160000
DTEND;TZID=Europe/Berlin:20260209T170000
DTSTAMP:20260422T084951
CREATED:20260121T074514Z
LAST-MODIFIED:20260121T074514Z
UID:987521242-1770652800-1770656400@kv-toleranz.org
SUMMARY:Bücher Plausch - jeden 2. Montag im Monat
DESCRIPTION:Du liebst Bücher und willst dich mit Gleichgesinnten austauschen? \nKomm vorbei\, quatsch mit uns über deine Lieblingsgeschichten und entdecke neue! \nDie Veranstaltung ist kostenfrei.
URL:https://kv-toleranz.org/veranstaltung/buecher-plausch-jeden-2-montag-im-monat/
LOCATION:Mehrgenerationenhaus\, Tschaikowskistr. 57a\, Freiberg\, Sachsen\, 09599\, Germany
CATEGORIES:Mehrgenerationenhaus
ATTACH;FMTTYPE=image/png:https://kv-toleranz.org/wp-content/uploads/2026/01/BuecherPlausch_Februar_2026.png
END:VEVENT
BEGIN:VEVENT
DTSTART;TZID=Europe/Berlin:20260211T173000
DTEND;TZID=Europe/Berlin:20260211T190000
DTSTAMP:20260422T084951
CREATED:20260121T073621Z
LAST-MODIFIED:20260121T073621Z
UID:987521230-1770831000-1770836400@kv-toleranz.org
SUMMARY:Sprachcafé - jeden Mittwoch
DESCRIPTION:Gesprächsrunde „Dialog in Deutsch“ \nAustausch über Freiberg\, Kultur und Alltägliches.
URL:https://kv-toleranz.org/veranstaltung/sprachcafe-jeden-mittwoch-38/
LOCATION:Mehrgenerationenhaus\, Tschaikowskistr. 57a\, Freiberg\, Sachsen\, 09599\, Germany
CATEGORIES:Mehrgenerationenhaus
ATTACH;FMTTYPE=image/jpeg:https://kv-toleranz.org/wp-content/uploads/2025/10/Sprachcafe-Flyer1.jpg
END:VEVENT
BEGIN:VEVENT
DTSTART;TZID=Europe/Berlin:20260212T150000
DTEND;TZID=Europe/Berlin:20260212T170000
DTSTAMP:20260422T084951
CREATED:20260121T073040Z
LAST-MODIFIED:20260121T073040Z
UID:987521216-1770908400-1770915600@kv-toleranz.org
SUMMARY:BegegnungsRaum I immer donnerstags
DESCRIPTION:Willkommen im BegegnungsRaum!\nJeden Donnerstag von 15 bis 17 Uhr öffnet unser BegegnungsRaum im Mehrgenerationenhaus „Buntes Haus“ seine Türen für alle\, die Lust auf eine entspannte Auszeit haben. Bei einer Tasse Kaffee oder Tee können wir gemeinsam Karten spielen\, plaudern und einfach eine schöne Zeit verbringen. \nHier ist jede*r herzlich willkommen – egal ob jung oder alt\, allein oder in Begleitung. Komm vorbei\, knüpfe neue Kontakte und genieße die freundliche Atmosphäre. Wir freuen uns auf dich! 😊
URL:https://kv-toleranz.org/veranstaltung/begegnungsraum-i-immer-donnerstags-62/
LOCATION:Mehrgenerationenhaus\, Tschaikowskistr. 57a\, Freiberg\, Sachsen\, 09599\, Germany
ATTACH;FMTTYPE=image/png:https://kv-toleranz.org/wp-content/uploads/2025/12/BegegnungsRaum_StaeM.png
END:VEVENT
BEGIN:VEVENT
DTSTART;TZID=Europe/Berlin:20260218T173000
DTEND;TZID=Europe/Berlin:20260218T190000
DTSTAMP:20260422T084951
CREATED:20260121T073708Z
LAST-MODIFIED:20260121T073708Z
UID:987521232-1771435800-1771441200@kv-toleranz.org
SUMMARY:Sprachcafé - jeden Mittwoch
DESCRIPTION:Gesprächsrunde „Dialog in Deutsch“ \nAustausch über Freiberg\, Kultur und Alltägliches.
URL:https://kv-toleranz.org/veranstaltung/sprachcafe-jeden-mittwoch-39/
LOCATION:Mehrgenerationenhaus\, Tschaikowskistr. 57a\, Freiberg\, Sachsen\, 09599\, Germany
CATEGORIES:Mehrgenerationenhaus
ATTACH;FMTTYPE=image/jpeg:https://kv-toleranz.org/wp-content/uploads/2025/10/Sprachcafe-Flyer1.jpg
END:VEVENT
BEGIN:VEVENT
DTSTART;TZID=Europe/Berlin:20260219T150000
DTEND;TZID=Europe/Berlin:20260219T170000
DTSTAMP:20260422T084951
CREATED:20260121T073128Z
LAST-MODIFIED:20260121T073128Z
UID:987521222-1771513200-1771520400@kv-toleranz.org
SUMMARY:BegegnungsRaum I immer donnerstags
DESCRIPTION:Willkommen im BegegnungsRaum!\nJeden Donnerstag von 15 bis 17 Uhr öffnet unser BegegnungsRaum im Mehrgenerationenhaus „Buntes Haus“ seine Türen für alle\, die Lust auf eine entspannte Auszeit haben. Bei einer Tasse Kaffee oder Tee können wir gemeinsam Karten spielen\, plaudern und einfach eine schöne Zeit verbringen. \nHier ist jede*r herzlich willkommen – egal ob jung oder alt\, allein oder in Begleitung. Komm vorbei\, knüpfe neue Kontakte und genieße die freundliche Atmosphäre. Wir freuen uns auf dich! 😊
URL:https://kv-toleranz.org/veranstaltung/begegnungsraum-i-immer-donnerstags-63/
LOCATION:Mehrgenerationenhaus\, Tschaikowskistr. 57a\, Freiberg\, Sachsen\, 09599\, Germany
CATEGORIES:Mehrgenerationenhaus
ATTACH;FMTTYPE=image/png:https://kv-toleranz.org/wp-content/uploads/2025/12/BegegnungsRaum_StaeM.png
END:VEVENT
BEGIN:VEVENT
DTSTART;TZID=Europe/Berlin:20260219T170000
DTEND;TZID=Europe/Berlin:20260219T190000
DTSTAMP:20260422T084951
CREATED:20260121T074242Z
LAST-MODIFIED:20260121T074242Z
UID:987521240-1771520400-1771527600@kv-toleranz.org
SUMMARY:WOLLVERLIEBT
DESCRIPTION:Du willst nicht nur alleine auf der Couch deinem Hobby nachgehen? Dann komm zu uns und tausche dich mit Gleichgesinnten aus. \nWir trefen uns jeden ersten und dritten Donnerstag im Monat von 17:00 -19:00 Uhr im MGH „Buntes Haus“ in Freiberg.
URL:https://kv-toleranz.org/veranstaltung/wollverliebt-22/
LOCATION:Mehrgenerationenhaus\, Tschaikowskistr. 57a\, Freiberg\, Sachsen\, 09599\, Germany
CATEGORIES:Mehrgenerationenhaus
ATTACH;FMTTYPE=image/jpeg:https://kv-toleranz.org/wp-content/uploads/2025/04/Wollverliebt.jpg
END:VEVENT
BEGIN:VEVENT
DTSTART;TZID=Europe/Berlin:20260219T170000
DTEND;TZID=Europe/Berlin:20260219T190000
DTSTAMP:20260422T084951
CREATED:20260121T075853Z
LAST-MODIFIED:20260121T075853Z
UID:987521247-1771520400-1771527600@kv-toleranz.org
SUMMARY:Flickcafé - Reparieren statt wegwerfen
DESCRIPTION:Du möchtest gern deine Kleidung selbst reparieren? Im Alltag kommst du nicht dazu oder brauchst Hilfe bei der Ausführung? \nDann komm zu uns und tausche dich mit Gleichgesinnten aus! Jeden 3. Donnerstag im Monat.
URL:https://kv-toleranz.org/veranstaltung/flickcafe-reparieren-statt-wegwerfen-3/
LOCATION:Mehrgenerationenhaus\, Tschaikowskistr. 57a\, Freiberg\, Sachsen\, 09599\, Germany
CATEGORIES:Mehrgenerationenhaus
ATTACH;FMTTYPE=image/png:https://kv-toleranz.org/wp-content/uploads/2025/11/Flickcafe_allgemein_Flyer.png
END:VEVENT
BEGIN:VEVENT
DTSTART;TZID=Europe/Berlin:20260223T173000
DTEND;TZID=Europe/Berlin:20260223T190000
DTSTAMP:20260422T084951
CREATED:20260121T080353Z
LAST-MODIFIED:20260121T080353Z
UID:987521249-1771867800-1771873200@kv-toleranz.org
SUMMARY:Erzähl mir von Früher...
DESCRIPTION:Persönliche Geschichten\, gelebtes Engagement und Erfahrungen aus Freiberg – Ramatu macht den Anfang bei einer kostenfreien Erzählrunde in gemütlicher Atmosphäre. \nKommt vorbei am 23.02.2026 von 17:30 – 19 Uhr im MGH „Buntes Haus“.
URL:https://kv-toleranz.org/veranstaltung/erzaehl-mir-von-frueher/
LOCATION:Mehrgenerationenhaus\, Tschaikowskistr. 57a\, Freiberg\, Sachsen\, 09599\, Germany
CATEGORIES:Mehrgenerationenhaus
ATTACH;FMTTYPE=image/png:https://kv-toleranz.org/wp-content/uploads/2026/01/Erzaehl-mir-von-Frueher_Aushang_Ramatu.png
END:VEVENT
BEGIN:VEVENT
DTSTART;TZID=Europe/Berlin:20260225T163000
DTEND;TZID=Europe/Berlin:20260225T180000
DTSTAMP:20260422T084951
CREATED:20260121T074659Z
LAST-MODIFIED:20260121T074659Z
UID:987521245-1772037000-1772042400@kv-toleranz.org
SUMMARY:Smartcafé
DESCRIPTION:Wir erklären oder helfen Ihnen mit ihrem Smartphone\, Tablet oder Laptop. \nEs ist keine Anmeldung nötig und ist kostenfrei. \nJeden 4. Mittwoch im Monat\, immer von 16:30 – 18 Uhr können Sie gerne mit Ihren Fragen und Problemen zu uns ins Mehrgenerationenhaus „Buntes Haus“ in Freiberg kommen.
URL:https://kv-toleranz.org/veranstaltung/smartcafe-4/
LOCATION:Mehrgenerationenhaus\, Tschaikowskistr. 57a\, Freiberg\, Sachsen\, 09599\, Germany
CATEGORIES:Mehrgenerationenhaus
ATTACH;FMTTYPE=image/png:https://kv-toleranz.org/wp-content/uploads/2025/12/Smartcafe_Aushang_Allgemein.png
END:VEVENT
BEGIN:VEVENT
DTSTART;TZID=Europe/Berlin:20260225T173000
DTEND;TZID=Europe/Berlin:20260225T190000
DTSTAMP:20260422T084951
CREATED:20260121T073959Z
LAST-MODIFIED:20260121T073959Z
UID:987521234-1772040600-1772046000@kv-toleranz.org
SUMMARY:Sprachcafé - jeden Mittwoch
DESCRIPTION:Gesprächsrunde „Dialog in Deutsch“ \nAustausch über Freiberg\, Kultur und Alltägliches.
URL:https://kv-toleranz.org/veranstaltung/sprachcafe-jeden-mittwoch-40/
LOCATION:Mehrgenerationenhaus\, Tschaikowskistr. 57a\, Freiberg\, Sachsen\, 09599\, Germany
CATEGORIES:Mehrgenerationenhaus
ATTACH;FMTTYPE=image/jpeg:https://kv-toleranz.org/wp-content/uploads/2025/10/Sprachcafe-Flyer1.jpg
END:VEVENT
BEGIN:VEVENT
DTSTART;TZID=Europe/Berlin:20260226T150000
DTEND;TZID=Europe/Berlin:20260226T170000
DTSTAMP:20260422T084951
CREATED:20260121T073218Z
LAST-MODIFIED:20260121T073218Z
UID:987521224-1772118000-1772125200@kv-toleranz.org
SUMMARY:BegegnungsRaum I immer donnerstags
DESCRIPTION:Willkommen im BegegnungsRaum!\nJeden Donnerstag von 15 bis 17 Uhr öffnet unser BegegnungsRaum im Mehrgenerationenhaus „Buntes Haus“ seine Türen für alle\, die Lust auf eine entspannte Auszeit haben. Bei einer Tasse Kaffee oder Tee können wir gemeinsam Karten spielen\, plaudern und einfach eine schöne Zeit verbringen. \nHier ist jede*r herzlich willkommen – egal ob jung oder alt\, allein oder in Begleitung. Komm vorbei\, knüpfe neue Kontakte und genieße die freundliche Atmosphäre. Wir freuen uns auf dich! 😊
URL:https://kv-toleranz.org/veranstaltung/begegnungsraum-i-immer-donnerstags-64/
LOCATION:Mehrgenerationenhaus\, Tschaikowskistr. 57a\, Freiberg\, Sachsen\, 09599\, Germany
CATEGORIES:Mehrgenerationenhaus
ATTACH;FMTTYPE=image/png:https://kv-toleranz.org/wp-content/uploads/2025/12/BegegnungsRaum_StaeM.png
END:VEVENT
BEGIN:VEVENT
DTSTART;TZID=Europe/Berlin:20260227T100000
DTEND;TZID=Europe/Berlin:20260227T120000
DTSTAMP:20260422T084951
CREATED:20260121T081126Z
LAST-MODIFIED:20260121T081126Z
UID:987521260-1772186400-1772193600@kv-toleranz.org
SUMMARY:geHmeinsam
DESCRIPTION:Sie möchten gerne in Gesellschaft spazieren gehen?
URL:https://kv-toleranz.org/veranstaltung/gehmeinsam-8/
LOCATION:Karl Kegel Straße 71\, Karl Kegel Straße 71\, Freiberg\, Sachsen\, 09599\, Germany
CATEGORIES:Mehrgenerationenhaus
ATTACH;FMTTYPE=image/jpeg:https://kv-toleranz.org/wp-content/uploads/2026/01/GeHmeinsam_Fruehjahr-2026-scaled.jpg
END:VEVENT
END:VCALENDAR