BEGIN:VCALENDAR
VERSION:2.0
PRODID:-//KV Toleranz & Inklusion gGmbH - ECPv6.15.20//NONSGML v1.0//EN
CALSCALE:GREGORIAN
METHOD:PUBLISH
X-WR-CALNAME:KV Toleranz & Inklusion gGmbH
X-ORIGINAL-URL:https://kv-toleranz.org
X-WR-CALDESC:Veranstaltungen für KV Toleranz & Inklusion gGmbH
REFRESH-INTERVAL;VALUE=DURATION:PT1H
X-Robots-Tag:noindex
X-PUBLISHED-TTL:PT1H
BEGIN:VTIMEZONE
TZID:Europe/Berlin
BEGIN:DAYLIGHT
TZOFFSETFROM:+0100
TZOFFSETTO:+0200
TZNAME:CEST
DTSTART:20250330T010000
END:DAYLIGHT
BEGIN:STANDARD
TZOFFSETFROM:+0200
TZOFFSETTO:+0100
TZNAME:CET
DTSTART:20251026T010000
END:STANDARD
BEGIN:DAYLIGHT
TZOFFSETFROM:+0100
TZOFFSETTO:+0200
TZNAME:CEST
DTSTART:20260329T010000
END:DAYLIGHT
BEGIN:STANDARD
TZOFFSETFROM:+0200
TZOFFSETTO:+0100
TZNAME:CET
DTSTART:20261025T010000
END:STANDARD
BEGIN:DAYLIGHT
TZOFFSETFROM:+0100
TZOFFSETTO:+0200
TZNAME:CEST
DTSTART:20270328T010000
END:DAYLIGHT
BEGIN:STANDARD
TZOFFSETFROM:+0200
TZOFFSETTO:+0100
TZNAME:CET
DTSTART:20271031T010000
END:STANDARD
END:VTIMEZONE
BEGIN:VEVENT
DTSTART;TZID=Europe/Berlin:20260112T160000
DTEND;TZID=Europe/Berlin:20260112T170000
DTSTAMP:20260422T104630
CREATED:20251217T114359Z
LAST-MODIFIED:20251217T114359Z
UID:987520437-1768233600-1768237200@kv-toleranz.org
SUMMARY:Bücher Plausch
DESCRIPTION:Du liebst Bücher und willst dich mit Gleichgesinnten austauschen? \nKomm vorbei\, quatsch mit uns über deine Lieblingsgeschichten und entdecke neue! \nDie Veranstaltung ist kostenfrei.
URL:https://kv-toleranz.org/veranstaltung/buecher-plausch-8/
LOCATION:Mehrgenerationenhaus\, Tschaikowskistr. 57a\, Freiberg\, Sachsen\, 09599\, Germany
CATEGORIES:Mehrgenerationenhaus
ATTACH;FMTTYPE=image/png:https://kv-toleranz.org/wp-content/uploads/2025/12/BuecherPlausch_Januar_2026.png
END:VEVENT
BEGIN:VEVENT
DTSTART;TZID=Europe/Berlin:20260113T170000
DTEND;TZID=Europe/Berlin:20260113T190000
DTSTAMP:20260422T104630
CREATED:20251117T111354Z
LAST-MODIFIED:20251117T111354Z
UID:987519790-1768323600-1768330800@kv-toleranz.org
SUMMARY:Reisevortrag - die Welt zu Gast im MGH "Buntes Haus"
DESCRIPTION:
URL:https://kv-toleranz.org/veranstaltung/reisevortrag-die-welt-zu-gast-im-mgh-buntes-haus-3/
LOCATION:Mehrgenerationenhaus\, Tschaikowskistr. 57a\, Freiberg\, Sachsen\, 09599\, Germany
CATEGORIES:Mehrgenerationenhaus
ATTACH;FMTTYPE=image/png:https://kv-toleranz.org/wp-content/uploads/2025/11/Reisevortrag_Joerg_Groenland.png
END:VEVENT
BEGIN:VEVENT
DTSTART;TZID=Europe/Berlin:20260114T173000
DTEND;TZID=Europe/Berlin:20260114T190000
DTSTAMP:20260422T104630
CREATED:20251217T113702Z
LAST-MODIFIED:20251217T113702Z
UID:987520428-1768411800-1768417200@kv-toleranz.org
SUMMARY:Sprachcafé - jeden Mittwoch
DESCRIPTION:Gesprächsrunde „Dialog in Deutsch“ \nAustausch über Freiberg\, Kultur und Alltägliches.
URL:https://kv-toleranz.org/veranstaltung/sprachcafe-jeden-mittwoch-34/
LOCATION:Mehrgenerationenhaus\, Tschaikowskistr. 57a\, Freiberg\, Sachsen\, 09599\, Germany
CATEGORIES:Mehrgenerationenhaus
ATTACH;FMTTYPE=image/jpeg:https://kv-toleranz.org/wp-content/uploads/2025/10/Sprachcafe-Flyer1.jpg
END:VEVENT
BEGIN:VEVENT
DTSTART;TZID=Europe/Berlin:20260115T140000
DTEND;TZID=Europe/Berlin:20260115T170000
DTSTAMP:20260422T104630
CREATED:20251217T113237Z
LAST-MODIFIED:20251217T113237Z
UID:987520410-1768485600-1768496400@kv-toleranz.org
SUMMARY:BegegnungsRaum I immer donnerstags
DESCRIPTION:Willkommen im BegegnungsRaum!\nJeden Donnerstag von 14 bis 17 Uhr öffnet unser BegegnungsRaum im Mehrgenerationenhaus „Buntes Haus“ seine Türen für alle\, die Lust auf eine entspannte Auszeit haben. Bei einer Tasse Kaffee oder Tee können wir gemeinsam Karten spielen\, plaudern und einfach eine schöne Zeit verbringen. \nHier ist jede*r herzlich willkommen – egal ob jung oder alt\, allein oder in Begleitung. Komm vorbei\, knüpfe neue Kontakte und genieße die freundliche Atmosphäre. Wir freuen uns auf dich! 😊
URL:https://kv-toleranz.org/veranstaltung/begegnungsraum-i-immer-donnerstags-58/
LOCATION:Mehrgenerationenhaus\, Tschaikowskistr. 57a\, Freiberg\, Sachsen\, 09599\, Germany
CATEGORIES:Mehrgenerationenhaus
ATTACH;FMTTYPE=image/png:https://kv-toleranz.org/wp-content/uploads/2024/10/BegegnungsRaum_Nov-2024.png
END:VEVENT
BEGIN:VEVENT
DTSTART;TZID=Europe/Berlin:20260115T170000
DTEND;TZID=Europe/Berlin:20260115T190000
DTSTAMP:20260422T104630
CREATED:20251217T114115Z
LAST-MODIFIED:20251217T114115Z
UID:987520434-1768496400-1768503600@kv-toleranz.org
SUMMARY:WOLLVERLIEBT
DESCRIPTION:Du willst nicht nur alleine auf der Couch deinem Hobby nachgehen? Dann komm zu uns und tausche dich mit Gleichgesinnten aus. \nWir trefen uns jeden ersten und dritten Donnerstag im Monat von 17:00 -19:00 Uhr im MGH „Buntes Haus“ in Freiberg.
URL:https://kv-toleranz.org/veranstaltung/wollverliebt-20/
LOCATION:Mehrgenerationenhaus\, Tschaikowskistr. 57a\, Freiberg\, Sachsen\, 09599\, Germany
CATEGORIES:Mehrgenerationenhaus
ATTACH;FMTTYPE=image/jpeg:https://kv-toleranz.org/wp-content/uploads/2025/04/Wollverliebt.jpg
END:VEVENT
BEGIN:VEVENT
DTSTART;TZID=Europe/Berlin:20260115T170000
DTEND;TZID=Europe/Berlin:20260115T190000
DTSTAMP:20260422T104630
CREATED:20251217T115221Z
LAST-MODIFIED:20251217T115221Z
UID:987520444-1768496400-1768503600@kv-toleranz.org
SUMMARY:Flickcafé - Reparieren statt wegwerfen
DESCRIPTION:Du möchtest gern deine Kleidung selbst reparieren? Im Alltag kommst du nicht dazu oder brauchst Hilfe bei der Ausführung? \nDann komm zu uns und tausche dich mit Gleichgesinnten aus!
URL:https://kv-toleranz.org/veranstaltung/flickcafe-reparieren-statt-wegwerfen-2/
LOCATION:Mehrgenerationenhaus\, Tschaikowskistr. 57a\, Freiberg\, Sachsen\, 09599\, Germany
CATEGORIES:Mehrgenerationenhaus
ATTACH;FMTTYPE=image/png:https://kv-toleranz.org/wp-content/uploads/2025/11/Flickcafe_allgemein_Flyer.png
END:VEVENT
BEGIN:VEVENT
DTSTART;TZID=Europe/Berlin:20260116T100000
DTEND;TZID=Europe/Berlin:20260116T120000
DTSTAMP:20260422T104630
CREATED:20251022T092424Z
LAST-MODIFIED:20251022T092424Z
UID:987518555-1768557600-1768564800@kv-toleranz.org
SUMMARY:Ge(h)meinsam
DESCRIPTION:
URL:https://kv-toleranz.org/veranstaltung/gehmeinsam-7/
LOCATION:Karl Kegel Straße 71\, Karl Kegel Straße 71\, Freiberg\, Sachsen\, 09599\, Germany
CATEGORIES:Mehrgenerationenhaus
ATTACH;FMTTYPE=image/jpeg:https://kv-toleranz.org/wp-content/uploads/2025/10/DRUCK-2025-1112-GeHmeinsam-scaled.jpg
END:VEVENT
BEGIN:VEVENT
DTSTART;TZID=Europe/Berlin:20260121T173000
DTEND;TZID=Europe/Berlin:20260121T190000
DTSTAMP:20260422T104630
CREATED:20251217T113800Z
LAST-MODIFIED:20251217T113800Z
UID:987520430-1769016600-1769022000@kv-toleranz.org
SUMMARY:Sprachcafé - jeden Mittwoch
DESCRIPTION:Gesprächsrunde „Dialog in Deutsch“ \nAustausch über Freiberg\, Kultur und Alltägliches.
URL:https://kv-toleranz.org/veranstaltung/sprachcafe-jeden-mittwoch-35/
LOCATION:Mehrgenerationenhaus\, Tschaikowskistr. 57a\, Freiberg\, Sachsen\, 09599\, Germany
CATEGORIES:Mehrgenerationenhaus
ATTACH;FMTTYPE=image/jpeg:https://kv-toleranz.org/wp-content/uploads/2025/10/Sprachcafe-Flyer1.jpg
END:VEVENT
BEGIN:VEVENT
DTSTART;TZID=Europe/Berlin:20260122T150000
DTEND;TZID=Europe/Berlin:20260122T170000
DTSTAMP:20260422T104630
CREATED:20251217T113325Z
LAST-MODIFIED:20260116T080039Z
UID:987520418-1769094000-1769101200@kv-toleranz.org
SUMMARY:BegegnungsRaum I immer donnerstags
DESCRIPTION:Willkommen im BegegnungsRaum!\nJeden Donnerstag von 15 bis 17 Uhr öffnet unser BegegnungsRaum im Mehrgenerationenhaus „Buntes Haus“ seine Türen für alle\, die Lust auf eine entspannte Auszeit haben. Bei einer Tasse Kaffee oder Tee können wir gemeinsam Karten spielen\, plaudern und einfach eine schöne Zeit verbringen. \nHier ist jede*r herzlich willkommen – egal ob jung oder alt\, allein oder in Begleitung. Komm vorbei\, knüpfe neue Kontakte und genieße die freundliche Atmosphäre. Wir freuen uns auf dich! 😊
URL:https://kv-toleranz.org/veranstaltung/begegnungsraum-i-immer-donnerstags-59/
LOCATION:Mehrgenerationenhaus\, Tschaikowskistr. 57a\, Freiberg\, Sachsen\, 09599\, Germany
CATEGORIES:Mehrgenerationenhaus
ATTACH;FMTTYPE=image/png:https://kv-toleranz.org/wp-content/uploads/2025/12/BegegnungsRaum_StaeM.png
END:VEVENT
BEGIN:VEVENT
DTSTART;TZID=Europe/Berlin:20260128T100000
DTEND;TZID=Europe/Berlin:20260128T120000
DTSTAMP:20260422T104630
CREATED:20251117T103615Z
LAST-MODIFIED:20251117T103615Z
UID:987519785-1769594400-1769601600@kv-toleranz.org
SUMMARY:Pflegezeit finanziell planen
DESCRIPTION:
URL:https://kv-toleranz.org/veranstaltung/pflegezeit-finanziell-planen/
LOCATION:Mehrgenerationenhaus\, Tschaikowskistr. 57a\, Freiberg\, Sachsen\, 09599\, Germany
CATEGORIES:Mehrgenerationenhaus
ATTACH;FMTTYPE=image/png:https://kv-toleranz.org/wp-content/uploads/2025/11/Pflege-finanziell-planen_Aushang.png
END:VEVENT
BEGIN:VEVENT
DTSTART;TZID=Europe/Berlin:20260128T163000
DTEND;TZID=Europe/Berlin:20260128T180000
DTSTAMP:20260422T104630
CREATED:20251217T114732Z
LAST-MODIFIED:20251217T114732Z
UID:987520440-1769617800-1769623200@kv-toleranz.org
SUMMARY:Smartcafé
DESCRIPTION:Wir erklären oder helfen Ihnen mit ihrem Smartphone\, Tablet oder Laptop. \nEs ist keine Anmeldung nötig und ist kostenfrei. \nJeden 4. Mittwoch im Monat\, immer von 16:30 – 18 Uhr können Sie gerne mit Ihren Fragen und Problemen zu uns ins Mehrgenerationenhaus „Buntes Haus“ in Freiberg kommen.
URL:https://kv-toleranz.org/veranstaltung/smartcafe-3/
LOCATION:Mehrgenerationenhaus\, Tschaikowskistr. 57a\, Freiberg\, Sachsen\, 09599\, Germany
CATEGORIES:Mehrgenerationenhaus
ATTACH;FMTTYPE=image/png:https://kv-toleranz.org/wp-content/uploads/2025/12/Smartcafe_Aushang_Allgemein.png
END:VEVENT
BEGIN:VEVENT
DTSTART;TZID=Europe/Berlin:20260128T173000
DTEND;TZID=Europe/Berlin:20260128T190000
DTSTAMP:20260422T104630
CREATED:20251217T113844Z
LAST-MODIFIED:20251217T113844Z
UID:987520432-1769621400-1769626800@kv-toleranz.org
SUMMARY:Sprachcafé - jeden Mittwoch
DESCRIPTION:Gesprächsrunde „Dialog in Deutsch“ \nAustausch über Freiberg\, Kultur und Alltägliches.
URL:https://kv-toleranz.org/veranstaltung/sprachcafe-jeden-mittwoch-36/
LOCATION:Mehrgenerationenhaus\, Tschaikowskistr. 57a\, Freiberg\, Sachsen\, 09599\, Germany
CATEGORIES:Mehrgenerationenhaus
ATTACH;FMTTYPE=image/jpeg:https://kv-toleranz.org/wp-content/uploads/2025/10/Sprachcafe-Flyer1.jpg
END:VEVENT
BEGIN:VEVENT
DTSTART;TZID=Europe/Berlin:20260129T150000
DTEND;TZID=Europe/Berlin:20260129T170000
DTSTAMP:20260422T104630
CREATED:20251217T113418Z
LAST-MODIFIED:20260116T080108Z
UID:987520424-1769698800-1769706000@kv-toleranz.org
SUMMARY:BegegnungsRaum I immer donnerstags
DESCRIPTION:Willkommen im BegegnungsRaum!\nJeden Donnerstag von 15 bis 17 Uhr öffnet unser BegegnungsRaum im Mehrgenerationenhaus „Buntes Haus“ seine Türen für alle\, die Lust auf eine entspannte Auszeit haben. Bei einer Tasse Kaffee oder Tee können wir gemeinsam Karten spielen\, plaudern und einfach eine schöne Zeit verbringen. \nHier ist jede*r herzlich willkommen – egal ob jung oder alt\, allein oder in Begleitung. Komm vorbei\, knüpfe neue Kontakte und genieße die freundliche Atmosphäre. Wir freuen uns auf dich! 😊
URL:https://kv-toleranz.org/veranstaltung/begegnungsraum-i-immer-donnerstags-60/
LOCATION:Mehrgenerationenhaus\, Tschaikowskistr. 57a\, Freiberg\, Sachsen\, 09599\, Germany
CATEGORIES:Mehrgenerationenhaus
ATTACH;FMTTYPE=image/png:https://kv-toleranz.org/wp-content/uploads/2025/12/BegegnungsRaum_StaeM.png
END:VEVENT
END:VCALENDAR