BEGIN:VCALENDAR
VERSION:2.0
PRODID:-//KV Toleranz & Inklusion gGmbH - ECPv6.15.20//NONSGML v1.0//EN
CALSCALE:GREGORIAN
METHOD:PUBLISH
X-WR-CALNAME:KV Toleranz & Inklusion gGmbH
X-ORIGINAL-URL:https://kv-toleranz.org
X-WR-CALDESC:Veranstaltungen für KV Toleranz & Inklusion gGmbH
REFRESH-INTERVAL;VALUE=DURATION:PT1H
X-Robots-Tag:noindex
X-PUBLISHED-TTL:PT1H
BEGIN:VTIMEZONE
TZID:Europe/Berlin
BEGIN:DAYLIGHT
TZOFFSETFROM:+0100
TZOFFSETTO:+0200
TZNAME:CEST
DTSTART:20250330T010000
END:DAYLIGHT
BEGIN:STANDARD
TZOFFSETFROM:+0200
TZOFFSETTO:+0100
TZNAME:CET
DTSTART:20251026T010000
END:STANDARD
BEGIN:DAYLIGHT
TZOFFSETFROM:+0100
TZOFFSETTO:+0200
TZNAME:CEST
DTSTART:20260329T010000
END:DAYLIGHT
BEGIN:STANDARD
TZOFFSETFROM:+0200
TZOFFSETTO:+0100
TZNAME:CET
DTSTART:20261025T010000
END:STANDARD
BEGIN:DAYLIGHT
TZOFFSETFROM:+0100
TZOFFSETTO:+0200
TZNAME:CEST
DTSTART:20270328T010000
END:DAYLIGHT
BEGIN:STANDARD
TZOFFSETFROM:+0200
TZOFFSETTO:+0100
TZNAME:CET
DTSTART:20271031T010000
END:STANDARD
END:VTIMEZONE
BEGIN:VEVENT
DTSTART;TZID=Europe/Berlin:20260410T100000
DTEND;TZID=Europe/Berlin:20260410T160000
DTSTAMP:20260422T065026
CREATED:20260402T090911Z
LAST-MODIFIED:20260402T090911Z
UID:987524438-1775815200-1775836800@kv-toleranz.org
SUMMARY:Backzeit
DESCRIPTION:Am Freitag\, den 10.04.2026 möchten wir gerne mit euch Cup Cakes backen. \nFür weitere Informationen wendet euch gerne direkt an das MGH „Buntes Haus“.
URL:https://kv-toleranz.org/veranstaltung/backzeit/
CATEGORIES:Mehrgenerationenhaus
ATTACH;FMTTYPE=application/pdf:https://kv-toleranz.org/wp-content/uploads/2026/04/Happy-Easter-Day-Flyer-1-4.pdf
END:VEVENT
END:VCALENDAR