BEGIN:VCALENDAR
VERSION:2.0
PRODID:-//KV Toleranz & Inklusion gGmbH - ECPv6.15.20//NONSGML v1.0//EN
CALSCALE:GREGORIAN
METHOD:PUBLISH
X-WR-CALNAME:KV Toleranz & Inklusion gGmbH
X-ORIGINAL-URL:https://kv-toleranz.org
X-WR-CALDESC:Veranstaltungen für KV Toleranz & Inklusion gGmbH
REFRESH-INTERVAL;VALUE=DURATION:PT1H
X-Robots-Tag:noindex
X-PUBLISHED-TTL:PT1H
BEGIN:VTIMEZONE
TZID:Europe/Berlin
BEGIN:DAYLIGHT
TZOFFSETFROM:+0100
TZOFFSETTO:+0200
TZNAME:CEST
DTSTART:20250330T010000
END:DAYLIGHT
BEGIN:STANDARD
TZOFFSETFROM:+0200
TZOFFSETTO:+0100
TZNAME:CET
DTSTART:20251026T010000
END:STANDARD
BEGIN:DAYLIGHT
TZOFFSETFROM:+0100
TZOFFSETTO:+0200
TZNAME:CEST
DTSTART:20260329T010000
END:DAYLIGHT
BEGIN:STANDARD
TZOFFSETFROM:+0200
TZOFFSETTO:+0100
TZNAME:CET
DTSTART:20261025T010000
END:STANDARD
BEGIN:DAYLIGHT
TZOFFSETFROM:+0100
TZOFFSETTO:+0200
TZNAME:CEST
DTSTART:20270328T010000
END:DAYLIGHT
BEGIN:STANDARD
TZOFFSETFROM:+0200
TZOFFSETTO:+0100
TZNAME:CET
DTSTART:20271031T010000
END:STANDARD
END:VTIMEZONE
BEGIN:VEVENT
DTSTART;TZID=Europe/Berlin:20260304T163000
DTEND;TZID=Europe/Berlin:20260304T180000
DTSTAMP:20260422T084015
CREATED:20260302T104106Z
LAST-MODIFIED:20260302T104106Z
UID:987522681-1772641800-1772647200@kv-toleranz.org
SUMMARY:Nähstübchen I jeden 1. Mittwoch im Monat
DESCRIPTION:In unserem Nähstübchen reparieren geschickte Hände liebevoll kaputte Kleidung. Hier findet jedes Stück eine zweite Chance. Bezahlung auf Spendenbasis
URL:https://kv-toleranz.org/veranstaltung/naehstuebchen-i-jeden-1-mittwoch-im-monat-15/
LOCATION:Mehrgenerationenhaus\, Tschaikowskistr. 57a\, Freiberg\, Sachsen\, 09599\, Germany
CATEGORIES:Mehrgenerationenhaus
ATTACH;FMTTYPE=image/jpeg:https://kv-toleranz.org/wp-content/uploads/2025/11/Aushang_Naehstuebchen.jpg
END:VEVENT
BEGIN:VEVENT
DTSTART;TZID=Europe/Berlin:20260304T173000
DTEND;TZID=Europe/Berlin:20260304T190000
DTSTAMP:20260422T084015
CREATED:20260302T112514Z
LAST-MODIFIED:20260302T112514Z
UID:987522740-1772645400-1772650800@kv-toleranz.org
SUMMARY:Sprachcafé - jeden Mittwoch
DESCRIPTION:Gesprächsrunde „Dialog in Deutsch“ \nAustausch über Freiberg\, Kultur und Alltägliches.
URL:https://kv-toleranz.org/veranstaltung/sprachcafe-jeden-mittwoch-41/
LOCATION:Mehrgenerationenhaus\, Tschaikowskistr. 57a\, Freiberg\, Sachsen\, 09599\, Germany
CATEGORIES:Mehrgenerationenhaus
ATTACH;FMTTYPE=image/jpeg:https://kv-toleranz.org/wp-content/uploads/2025/10/Sprachcafe-Flyer1.jpg
END:VEVENT
END:VCALENDAR